BEGIN:VCALENDAR
VERSION:2.0
PRODID:-//wp-events-plugin.com//7.1.7//EN
TZID:Europe/Paris
X-WR-TIMEZONE:Europe/Paris
BEGIN:VEVENT
UID:54@ramenetachaise.com
DTSTART;TZID=Europe/Paris:20260606T093000
DTEND;TZID=Europe/Paris:20260606T124500
DTSTAMP:20260213T142714Z
URL:https://ramenetachaise.com/events/module-1-7/
SUMMARY:Module 1
DESCRIPTION:\n\nModule 1 : 3h\n• rencontre et découverte des objectifs d
 e chacun\n• dégarnissage\n• prise de gabarit\n• planification des 
 étapes de travail
LOCATION:Ramène ta chaise !!!\, rue des Coteaux\, 133\, Schaerbeek\, 1030\
 , Belgique
X-APPLE-STRUCTURED-LOCATION;VALUE=URI;X-ADDRESS=rue des Coteaux\, 133\, Sch
 aerbeek\, 1030\, Belgique;X-APPLE-RADIUS=100;X-TITLE=Ramène ta chaise !!!
 :geo:0,0
END:VEVENT
BEGIN:VTIMEZONE
TZID:Europe/Paris
X-LIC-LOCATION:Europe/Paris
BEGIN:DAYLIGHT
DTSTART:20260329T030000
TZOFFSETFROM:+0100
TZOFFSETTO:+0200
TZNAME:CEST
END:DAYLIGHT
END:VTIMEZONE
END:VCALENDAR