BEGIN:VCALENDAR
VERSION:2.0
PRODID:-//wp-events-plugin.com//7.1.7//EN
TZID:Europe/Paris
X-WR-TIMEZONE:Europe/Paris
BEGIN:VEVENT
UID:36@ramenetachaise.com
DTSTART;TZID=Europe/Paris:20260420T093000
DTEND;TZID=Europe/Paris:20260420T124500
DTSTAMP:20260212T151747Z
URL:https://ramenetachaise.com/events/module-7-3/
SUMMARY:Module 7
DESCRIPTION:\n\nModule 7 : 3h\n• sanglage\n• fixation de la toile fort
 e\n• collage de la mousse et de la ouatine
LOCATION:Ramène ta chaise !!!\, rue des Coteaux\, 133\, Schaerbeek\, 1030\
 , Belgique
X-APPLE-STRUCTURED-LOCATION;VALUE=URI;X-ADDRESS=rue des Coteaux\, 133\, Sch
 aerbeek\, 1030\, Belgique;X-APPLE-RADIUS=100;X-TITLE=Ramène ta chaise !!!
 :geo:0,0
END:VEVENT
BEGIN:VTIMEZONE
TZID:Europe/Paris
X-LIC-LOCATION:Europe/Paris
BEGIN:DAYLIGHT
DTSTART:20260329T030000
TZOFFSETFROM:+0100
TZOFFSETTO:+0200
TZNAME:CEST
END:DAYLIGHT
END:VTIMEZONE
END:VCALENDAR